Package: RSVSim Version: 1.32.0 Command: chmod a+r RSVSim -R && C:\Users\biocbuild\bbs-3.13-bioc\R\bin\R.exe CMD build --keep-empty-dirs --no-resave-data RSVSim StartedAt: 2021-10-14 17:48:59 -0400 (Thu, 14 Oct 2021) EndedAt: 2021-10-14 17:51:19 -0400 (Thu, 14 Oct 2021) EllapsedTime: 140.3 seconds RetCode: 0 Status: OK PackageFile: RSVSim_1.32.0.tar.gz PackageFileSize: 561.8 KiB