Package: RTCGA Version: 1.22.0 Command: rm -rf RTCGA.buildbin-libdir && mkdir RTCGA.buildbin-libdir && C:\Users\biocbuild\bbs-3.13-bioc\R\bin\R.exe CMD INSTALL --merge-multiarch --build --library=RTCGA.buildbin-libdir RTCGA_1.22.0.tar.gz StartedAt: 2021-10-15 11:32:23 -0400 (Fri, 15 Oct 2021) EndedAt: 2021-10-15 11:33:39 -0400 (Fri, 15 Oct 2021) EllapsedTime: 75.6 seconds RetCode: 0 Status: OK PackageFile: RTCGA_1.22.0.zip PackageFileSize: 519.3 KiB