Package: RTCGA Version: 1.22.0 Command: chmod a+r RTCGA -R && C:\Users\biocbuild\bbs-3.13-bioc\R\bin\R.exe CMD build --keep-empty-dirs --no-resave-data RTCGA StartedAt: 2021-10-14 17:49:27 -0400 (Thu, 14 Oct 2021) EndedAt: 2021-10-14 17:50:26 -0400 (Thu, 14 Oct 2021) EllapsedTime: 59.0 seconds RetCode: 0 Status: OK PackageFile: RTCGA_1.22.0.tar.gz PackageFileSize: 386.2 KiB