Package: Rbowtie Version: 1.32.0 Command: rm -rf Rbowtie.buildbin-libdir && mkdir Rbowtie.buildbin-libdir && /Users/biocbuild/BBS/utils/build-universal.sh Rbowtie_1.32.0.tar.gz /Library/Frameworks/R.framework/Versions/Current/Resources/bin/R Rbowtie.buildbin-libdir StartedAt: 2021-10-15 03:39:00 -0400 (Fri, 15 Oct 2021) EndedAt: 2021-10-15 03:41:08 -0400 (Fri, 15 Oct 2021) EllapsedTime: 128.5 seconds RetCode: 0 Status: OK PackageFile: Rbowtie_1.32.0.tgz PackageFileSize: 1.244 MiB