Package: Rbowtie Version: 1.32.0 Command: C:\Users\biocbuild\bbs-3.13-bioc\R\bin\R.exe --arch x64 CMD INSTALL --no-multiarch Rbowtie StartedAt: 2021-10-14 06:49:20 -0400 (Thu, 14 Oct 2021) EndedAt: 2021-10-14 06:52:58 -0400 (Thu, 14 Oct 2021) EllapsedTime: 218.2 seconds RetCode: 0 Status: OK