Package: Rcade Version: 1.34.0 Command: /Library/Frameworks/R.framework/Versions/Current/Resources/bin/R CMD check --install=check:Rcade.install-out.txt --library=/Library/Frameworks/R.framework/Versions/Current/Resources/library --no-vignettes --timings --no-examples Rcade_1.34.0.tar.gz StartedAt: 2021-10-14 22:53:40 -0400 (Thu, 14 Oct 2021) EndedAt: 2021-10-14 22:57:38 -0400 (Thu, 14 Oct 2021) EllapsedTime: 238.8 seconds RetCode: 0 Status: OK CheckDir: Rcade.Rcheck Warnings: 0