############################################################################## ############################################################################## ### ### Running command: ### ### /Library/Frameworks/R.framework/Versions/Current/Resources/bin/R CMD INSTALL RchyOptimyx ### ############################################################################## ############################################################################## * installing to library ‘/Library/Frameworks/R.framework/Versions/4.1/Resources/library’ ERROR: dependency ‘flowType’ is not available for package ‘RchyOptimyx’ * removing ‘/Library/Frameworks/R.framework/Versions/4.1/Resources/library/RchyOptimyx’