Package: RchyOptimyx Version: 2.32.0 Command: /Library/Frameworks/R.framework/Versions/Current/Resources/bin/R CMD INSTALL RchyOptimyx StartedAt: 2021-10-14 10:29:16 -0400 (Thu, 14 Oct 2021) EndedAt: 2021-10-14 10:29:16 -0400 (Thu, 14 Oct 2021) EllapsedTime: 0.4 seconds RetCode: 1 Status: ERROR