Package: RcisTarget Version: 1.12.0 Command: rm -rf RcisTarget.buildbin-libdir && mkdir RcisTarget.buildbin-libdir && /Users/biocbuild/BBS/utils/build-universal.sh RcisTarget_1.12.0.tar.gz /Library/Frameworks/R.framework/Versions/Current/Resources/bin/R RcisTarget.buildbin-libdir StartedAt: 2021-10-15 03:39:42 -0400 (Fri, 15 Oct 2021) EndedAt: 2021-10-15 03:40:35 -0400 (Fri, 15 Oct 2021) EllapsedTime: 53.1 seconds RetCode: 0 Status: OK PackageFile: RcisTarget_1.12.0.tgz PackageFileSize: 9.719 MiB