Package: RcwlPipelines Version: 1.8.0 Command: /Library/Frameworks/R.framework/Versions/Current/Resources/bin/R CMD INSTALL RcwlPipelines StartedAt: 2021-10-14 09:41:44 -0400 (Thu, 14 Oct 2021) EndedAt: 2021-10-14 09:42:38 -0400 (Thu, 14 Oct 2021) EllapsedTime: 53.7 seconds RetCode: 0 Status: OK