Package: ReQON Version: 1.38.0 Command: /Library/Frameworks/R.framework/Versions/Current/Resources/bin/R CMD check --install=check:ReQON.install-out.txt --library=/Library/Frameworks/R.framework/Versions/Current/Resources/library --no-vignettes --timings ReQON_1.38.0.tar.gz StartedAt: 2021-10-14 23:06:05 -0400 (Thu, 14 Oct 2021) EndedAt: 2021-10-14 23:07:59 -0400 (Thu, 14 Oct 2021) EllapsedTime: 113.9 seconds RetCode: 0 Status: OK CheckDir: ReQON.Rcheck Warnings: 0