Package: ReQON Version: 1.38.0 Command: /home/biocbuild/bbs-3.13-bioc/R/bin/R CMD INSTALL ReQON StartedAt: 2021-10-14 06:10:44 -0400 (Thu, 14 Oct 2021) EndedAt: 2021-10-14 06:10:57 -0400 (Thu, 14 Oct 2021) EllapsedTime: 13.5 seconds RetCode: 0 Status: OK