Package: ReQON Version: 1.38.0 Command: rm -rf ReQON.buildbin-libdir && mkdir ReQON.buildbin-libdir && C:\Users\biocbuild\bbs-3.13-bioc\R\bin\R.exe --arch x64 CMD INSTALL --no-multiarch --build --library=ReQON.buildbin-libdir ReQON_1.38.0.tar.gz StartedAt: 2021-10-15 11:21:05 -0400 (Fri, 15 Oct 2021) EndedAt: 2021-10-15 11:22:36 -0400 (Fri, 15 Oct 2021) EllapsedTime: 91.8 seconds RetCode: 0 Status: OK PackageFile: ReQON_1.38.0.zip PackageFileSize: 1.362 MiB