git_url: https://git.bioconductor.org/packages/ReactomeContentService4R git_branch: RELEASE_3_13 git_last_commit: 02b2833 git_last_commit_date: 2021-05-19 12:58:16 -0400 (Wed, 19 May 2021) Package: ReactomeContentService4R Version: 1.0.0 Maintainer: Chi-Lam Poon MaintainerEmail: clpoon807 at gmail.com