Package: ReactomeGraph4R Version: 1.0.0 Command: rm -rf ReactomeGraph4R.buildbin-libdir && mkdir ReactomeGraph4R.buildbin-libdir && /Users/biocbuild/BBS/utils/build-universal.sh ReactomeGraph4R_1.0.0.tar.gz /Library/Frameworks/R.framework/Versions/Current/Resources/bin/R ReactomeGraph4R.buildbin-libdir StartedAt: 2021-10-15 03:40:46 -0400 (Fri, 15 Oct 2021) EndedAt: 2021-10-15 03:41:56 -0400 (Fri, 15 Oct 2021) EllapsedTime: 70.0 seconds RetCode: 0 Status: OK PackageFile: ReactomeGraph4R_1.0.0.tgz PackageFileSize: 722.2 KiB