Package: ReactomeGraph4R Version: 1.0.0 Command: /Library/Frameworks/R.framework/Versions/Current/Resources/bin/R CMD INSTALL ReactomeGraph4R StartedAt: 2021-10-14 09:34:08 -0400 (Thu, 14 Oct 2021) EndedAt: 2021-10-14 09:35:02 -0400 (Thu, 14 Oct 2021) EllapsedTime: 54.1 seconds RetCode: 0 Status: OK