Package: ReactomeGraph4R Version: 1.0.0 Command: /home/biocbuild/bbs-3.13-bioc/R/bin/R CMD build --keep-empty-dirs --no-resave-data ReactomeGraph4R StartedAt: 2021-10-14 08:10:01 -0400 (Thu, 14 Oct 2021) EndedAt: 2021-10-14 08:10:11 -0400 (Thu, 14 Oct 2021) EllapsedTime: 10.2 seconds RetCode: 0 Status: OK PackageFile: ReactomeGraph4R_1.0.0.tar.gz PackageFileSize: 784.9 KiB