Package: RegEnrich Version: 1.2.0 Command: /home/biocbuild/bbs-3.13-bioc/R/bin/R CMD check --install=check:RegEnrich.install-out.txt --library=/home/biocbuild/bbs-3.13-bioc/R/library --no-vignettes --timings RegEnrich_1.2.0.tar.gz StartedAt: 2021-10-14 11:16:34 -0400 (Thu, 14 Oct 2021) EndedAt: 2021-10-14 11:20:52 -0400 (Thu, 14 Oct 2021) EllapsedTime: 258.1 seconds RetCode: 0 Status: OK CheckDir: RegEnrich.Rcheck Warnings: 0