Package: RepViz Version: 1.8.0 Command: C:\cygwin\bin\curl.exe -O http://155.52.207.165/BBS/3.13/bioc/src/contrib/RepViz_1.8.0.tar.gz && rm -rf RepViz.buildbin-libdir && mkdir RepViz.buildbin-libdir && C:\Users\biocbuild\bbs-3.13-bioc\R\bin\R.exe CMD INSTALL --merge-multiarch --build --library=RepViz.buildbin-libdir RepViz_1.8.0.tar.gz && C:\Users\biocbuild\bbs-3.13-bioc\R\bin\R.exe CMD INSTALL RepViz_1.8.0.zip && rm RepViz_1.8.0.tar.gz RepViz_1.8.0.zip StartedAt: 2021-10-14 08:11:40 -0400 (Thu, 14 Oct 2021) EndedAt: 2021-10-14 08:15:20 -0400 (Thu, 14 Oct 2021) EllapsedTime: 220.2 seconds RetCode: 0 Status: OK