git_url: https://git.bioconductor.org/packages/Repitools git_branch: RELEASE_3_13 git_last_commit: dc767d1 git_last_commit_date: 2021-05-19 11:49:04 -0400 (Wed, 19 May 2021) Package: Repitools Version: 1.38.0 Maintainer: Mark Robinson MaintainerEmail: mark.robinson at imls.uzh.ch