Package: Repitools Version: 1.38.0 Command: chmod a+r Repitools -R && C:\Users\biocbuild\bbs-3.13-bioc\R\bin\R.exe CMD build --keep-empty-dirs --no-resave-data Repitools StartedAt: 2021-10-14 17:32:11 -0400 (Thu, 14 Oct 2021) EndedAt: 2021-10-14 17:33:35 -0400 (Thu, 14 Oct 2021) EllapsedTime: 84.5 seconds RetCode: 0 Status: OK PackageFile: Repitools_1.38.0.tar.gz PackageFileSize: 1.619 MiB