git_url: https://git.bioconductor.org/packages/Rgraphviz git_branch: RELEASE_3_13 git_last_commit: 1ea05ef git_last_commit_date: 2021-05-19 11:33:11 -0400 (Wed, 19 May 2021) Package: Rgraphviz Version: 2.36.0 Maintainer: Kasper Daniel Hansen MaintainerEmail: kasperdanielhansen at gmail.com