Package: Rhisat2 Version: 1.8.0 Command: rm -rf Rhisat2.buildbin-libdir && mkdir Rhisat2.buildbin-libdir && /Users/biocbuild/BBS/utils/build-universal.sh Rhisat2_1.8.0.tar.gz /Library/Frameworks/R.framework/Versions/Current/Resources/bin/R Rhisat2.buildbin-libdir StartedAt: 2021-10-15 03:44:29 -0400 (Fri, 15 Oct 2021) EndedAt: 2021-10-15 03:47:11 -0400 (Fri, 15 Oct 2021) EllapsedTime: 162.7 seconds RetCode: 0 Status: OK PackageFile: Rhisat2_1.8.0.tgz PackageFileSize: 1.136 MiB