Package: Rhisat2 Version: 1.8.0 Command: /Library/Frameworks/R.framework/Versions/Current/Resources/bin/R CMD build --keep-empty-dirs --no-resave-data Rhisat2 StartedAt: 2021-10-14 14:22:22 -0400 (Thu, 14 Oct 2021) EndedAt: 2021-10-14 14:25:18 -0400 (Thu, 14 Oct 2021) EllapsedTime: 176.1 seconds RetCode: 0 Status: OK PackageFile: Rhisat2_1.8.0.tar.gz PackageFileSize: 3.921 MiB