Package: Rhisat2 Version: 1.8.0 Command: C:\Users\biocbuild\bbs-3.13-bioc\R\bin\R.exe --arch x64 CMD INSTALL --no-multiarch Rhisat2 StartedAt: 2021-10-14 10:32:21 -0400 (Thu, 14 Oct 2021) EndedAt: 2021-10-14 10:37:54 -0400 (Thu, 14 Oct 2021) EllapsedTime: 332.7 seconds RetCode: 0 Status: OK