Package: RmiR Version: 1.48.0 Command: /home/biocbuild/bbs-3.13-bioc/R/bin/R CMD build --keep-empty-dirs --no-resave-data RmiR StartedAt: 2021-10-14 08:13:35 -0400 (Thu, 14 Oct 2021) EndedAt: 2021-10-14 08:13:35 -0400 (Thu, 14 Oct 2021) EllapsedTime: 0.5 seconds RetCode: 1 Status: ERROR PackageFile: None PackageFileSize: NA