Package: RmiR Version: 1.48.0 Command: chmod a+r RmiR -R && C:\Users\biocbuild\bbs-3.13-bioc\R\bin\R.exe CMD build --keep-empty-dirs --no-resave-data RmiR StartedAt: 2021-10-14 17:40:09 -0400 (Thu, 14 Oct 2021) EndedAt: 2021-10-14 17:40:10 -0400 (Thu, 14 Oct 2021) EllapsedTime: 1.2 seconds RetCode: 1 Status: ERROR PackageFile: RmiR_1.48.0.tar.gz PackageFileSize: 154.5 KiB