git_url: https://git.bioconductor.org/packages/RnBeads git_branch: RELEASE_3_13 git_last_commit: 8929f8e git_last_commit_date: 2021-05-21 03:15:12 -0400 (Fri, 21 May 2021) Package: RnBeads Version: 2.10.0 Maintainer: Fabian Mueller MaintainerEmail: team at rnbeads.org