Package: RnBeads Version: 2.10.0 Command: /Library/Frameworks/R.framework/Versions/Current/Resources/bin/R CMD INSTALL RnBeads StartedAt: 2021-10-14 10:10:25 -0400 (Thu, 14 Oct 2021) EndedAt: 2021-10-14 10:12:09 -0400 (Thu, 14 Oct 2021) EllapsedTime: 103.8 seconds RetCode: 0 Status: OK