Package: RnBeads Version: 2.10.0 Command: /home/biocbuild/bbs-3.13-bioc/R/bin/R CMD build --keep-empty-dirs --no-resave-data RnBeads StartedAt: 2021-10-14 08:14:54 -0400 (Thu, 14 Oct 2021) EndedAt: 2021-10-14 08:16:58 -0400 (Thu, 14 Oct 2021) EllapsedTime: 124.3 seconds RetCode: 0 Status: OK PackageFile: RnBeads_2.10.0.tar.gz PackageFileSize: 7.139 MiB