Package: RnBeads Version: 2.10.0 Command: rm -rf RnBeads.buildbin-libdir && mkdir RnBeads.buildbin-libdir && C:\Users\biocbuild\bbs-3.13-bioc\R\bin\R.exe CMD INSTALL --merge-multiarch --build --library=RnBeads.buildbin-libdir RnBeads_2.10.0.tar.gz StartedAt: 2021-10-15 11:28:21 -0400 (Fri, 15 Oct 2021) EndedAt: 2021-10-15 11:30:48 -0400 (Fri, 15 Oct 2021) EllapsedTime: 146.6 seconds RetCode: 0 Status: OK PackageFile: RnBeads_2.10.0.zip PackageFileSize: 7.902 MiB