Package: RnBeads Version: 2.10.0 Command: C:\Users\biocbuild\bbs-3.13-bioc\R\bin\R.exe CMD check --force-multiarch --install=check:RnBeads.install-out.txt --library=C:\Users\biocbuild\bbs-3.13-bioc\R\library --no-vignettes --timings RnBeads_2.10.0.tar.gz StartedAt: 2021-10-15 04:45:40 -0400 (Fri, 15 Oct 2021) EndedAt: 2021-10-15 05:02:53 -0400 (Fri, 15 Oct 2021) EllapsedTime: 1033.0 seconds RetCode: 0 Status: OK CheckDir: RnBeads.Rcheck Warnings: 0