Package: RnBeads Version: 2.10.0 Command: C:\cygwin\bin\curl.exe -O http://155.52.207.165/BBS/3.13/bioc/src/contrib/RnBeads_2.10.0.tar.gz && rm -rf RnBeads.buildbin-libdir && mkdir RnBeads.buildbin-libdir && C:\Users\biocbuild\bbs-3.13-bioc\R\bin\R.exe CMD INSTALL --merge-multiarch --build --library=RnBeads.buildbin-libdir RnBeads_2.10.0.tar.gz && C:\Users\biocbuild\bbs-3.13-bioc\R\bin\R.exe CMD INSTALL RnBeads_2.10.0.zip && rm RnBeads_2.10.0.tar.gz RnBeads_2.10.0.zip StartedAt: 2021-10-14 10:50:15 -0400 (Thu, 14 Oct 2021) EndedAt: 2021-10-14 10:52:45 -0400 (Thu, 14 Oct 2021) EllapsedTime: 150.1 seconds RetCode: 0 Status: OK