Package: Rnits Version: 1.26.0 Command: /home/biocbuild/bbs-3.13-bioc/R/bin/R CMD build --keep-empty-dirs --no-resave-data Rnits StartedAt: 2021-10-14 08:14:54 -0400 (Thu, 14 Oct 2021) EndedAt: 2021-10-14 08:16:05 -0400 (Thu, 14 Oct 2021) EllapsedTime: 70.2 seconds RetCode: 0 Status: OK PackageFile: Rnits_1.26.0.tar.gz PackageFileSize: 642.5 KiB