Package: Rsamtools Version: 2.8.0 Command: rm -rf Rsamtools.buildbin-libdir && mkdir Rsamtools.buildbin-libdir && C:\Users\biocbuild\bbs-3.13-bioc\R\bin\R.exe CMD INSTALL --merge-multiarch --build --library=Rsamtools.buildbin-libdir Rsamtools_2.8.0.tar.gz StartedAt: 2021-10-15 11:30:57 -0400 (Fri, 15 Oct 2021) EndedAt: 2021-10-15 11:34:05 -0400 (Fri, 15 Oct 2021) EllapsedTime: 187.5 seconds RetCode: 0 Status: OK PackageFile: Rsamtools_2.8.0.zip PackageFileSize: 6.257 MiB