Package: Rsamtools Version: 2.8.0 Command: chmod a+r Rsamtools -R && C:\Users\biocbuild\bbs-3.13-bioc\R\bin\R.exe CMD build --keep-empty-dirs --no-resave-data Rsamtools StartedAt: 2021-10-14 17:47:57 -0400 (Thu, 14 Oct 2021) EndedAt: 2021-10-14 17:49:53 -0400 (Thu, 14 Oct 2021) EllapsedTime: 116.7 seconds RetCode: 0 Status: OK PackageFile: Rsamtools_2.8.0.tar.gz PackageFileSize: 2.739 MiB