Package: Rsamtools Version: 2.8.0 Command: C:\cygwin\bin\curl.exe -O http://155.52.207.165/BBS/3.13/bioc/src/contrib/Rsamtools_2.8.0.tar.gz && rm -rf Rsamtools.buildbin-libdir && mkdir Rsamtools.buildbin-libdir && C:\Users\biocbuild\bbs-3.13-bioc\R\bin\R.exe CMD INSTALL --merge-multiarch --build --library=Rsamtools.buildbin-libdir Rsamtools_2.8.0.tar.gz && C:\Users\biocbuild\bbs-3.13-bioc\R\bin\R.exe CMD INSTALL Rsamtools_2.8.0.zip && rm Rsamtools_2.8.0.tar.gz Rsamtools_2.8.0.zip StartedAt: 2021-10-14 08:01:06 -0400 (Thu, 14 Oct 2021) EndedAt: 2021-10-14 08:04:51 -0400 (Thu, 14 Oct 2021) EllapsedTime: 224.9 seconds RetCode: 0 Status: OK