Package: Rtpca Version: 1.2.0 Command: /Library/Frameworks/R.framework/Versions/Current/Resources/bin/R CMD INSTALL Rtpca StartedAt: 2021-10-14 09:48:02 -0400 (Thu, 14 Oct 2021) EndedAt: 2021-10-14 09:48:55 -0400 (Thu, 14 Oct 2021) EllapsedTime: 53.1 seconds RetCode: 0 Status: OK