Package: S4Vectors Version: 0.30.2 Command: /Library/Frameworks/R.framework/Versions/Current/Resources/bin/R CMD build --keep-empty-dirs --no-resave-data S4Vectors StartedAt: 2021-10-14 14:35:38 -0400 (Thu, 14 Oct 2021) EndedAt: 2021-10-14 14:36:56 -0400 (Thu, 14 Oct 2021) EllapsedTime: 77.5 seconds RetCode: 0 Status: OK PackageFile: S4Vectors_0.30.2.tar.gz PackageFileSize: 657.5 KiB