Package: S4Vectors Version: 0.30.2 Command: /Library/Frameworks/R.framework/Versions/Current/Resources/bin/R CMD check --install=check:S4Vectors.install-out.txt --library=/Library/Frameworks/R.framework/Versions/Current/Resources/library --no-vignettes --timings S4Vectors_0.30.2.tar.gz StartedAt: 2021-10-14 23:30:26 -0400 (Thu, 14 Oct 2021) EndedAt: 2021-10-14 23:32:29 -0400 (Thu, 14 Oct 2021) EllapsedTime: 123.2 seconds RetCode: 0 Status: WARNINGS CheckDir: S4Vectors.Rcheck Warnings: 2