Package: S4Vectors Version: 0.30.2 Command: rm -rf S4Vectors.buildbin-libdir && mkdir S4Vectors.buildbin-libdir && C:\Users\biocbuild\bbs-3.13-bioc\R\bin\R.exe CMD INSTALL --merge-multiarch --build --library=S4Vectors.buildbin-libdir S4Vectors_0.30.2.tar.gz StartedAt: 2021-10-15 11:34:47 -0400 (Fri, 15 Oct 2021) EndedAt: 2021-10-15 11:36:03 -0400 (Fri, 15 Oct 2021) EllapsedTime: 76.0 seconds RetCode: 0 Status: OK PackageFile: S4Vectors_0.30.2.zip PackageFileSize: 2.348 MiB