Package: S4Vectors Version: 0.30.2 Command: C:\Users\biocbuild\bbs-3.13-bioc\R\bin\R.exe CMD check --force-multiarch --install=check:S4Vectors.install-out.txt --library=C:\Users\biocbuild\bbs-3.13-bioc\R\library --no-vignettes --timings S4Vectors_0.30.2.tar.gz StartedAt: 2021-10-15 05:00:37 -0400 (Fri, 15 Oct 2021) EndedAt: 2021-10-15 05:03:24 -0400 (Fri, 15 Oct 2021) EllapsedTime: 166.8 seconds RetCode: 0 Status: WARNINGS CheckDir: S4Vectors.Rcheck Warnings: 3