Package: S4Vectors Version: 0.30.2 Command: C:\cygwin\bin\curl.exe -O http://155.52.207.165/BBS/3.13/bioc/src/contrib/S4Vectors_0.30.2.tar.gz && rm -rf S4Vectors.buildbin-libdir && mkdir S4Vectors.buildbin-libdir && C:\Users\biocbuild\bbs-3.13-bioc\R\bin\R.exe CMD INSTALL --merge-multiarch --build --library=S4Vectors.buildbin-libdir S4Vectors_0.30.2.tar.gz && C:\Users\biocbuild\bbs-3.13-bioc\R\bin\R.exe CMD INSTALL S4Vectors_0.30.2.zip && rm S4Vectors_0.30.2.tar.gz S4Vectors_0.30.2.zip StartedAt: 2021-10-14 07:23:10 -0400 (Thu, 14 Oct 2021) EndedAt: 2021-10-14 07:26:25 -0400 (Thu, 14 Oct 2021) EllapsedTime: 194.8 seconds RetCode: 0 Status: OK