Package: SAIGEgds Version: 1.6.0 Command: /home/biocbuild/bbs-3.13-bioc/R/bin/R CMD build --keep-empty-dirs --no-resave-data SAIGEgds StartedAt: 2021-10-14 08:17:45 -0400 (Thu, 14 Oct 2021) EndedAt: 2021-10-14 08:18:51 -0400 (Thu, 14 Oct 2021) EllapsedTime: 66.0 seconds RetCode: 0 Status: OK PackageFile: SAIGEgds_1.6.0.tar.gz PackageFileSize: 1.72 MiB