Package: SC3 Version: 1.20.0 Command: /Library/Frameworks/R.framework/Versions/Current/Resources/bin/R CMD INSTALL SC3 StartedAt: 2021-10-14 09:13:04 -0400 (Thu, 14 Oct 2021) EndedAt: 2021-10-14 09:13:54 -0400 (Thu, 14 Oct 2021) EllapsedTime: 50.5 seconds RetCode: 0 Status: OK