Package: SCAN.UPC Version: 2.34.0 Command: /home/biocbuild/bbs-3.13-bioc/R/bin/R CMD build --keep-empty-dirs --no-resave-data SCAN.UPC StartedAt: 2021-10-14 08:18:26 -0400 (Thu, 14 Oct 2021) EndedAt: 2021-10-14 08:18:58 -0400 (Thu, 14 Oct 2021) EllapsedTime: 32.0 seconds RetCode: 0 Status: OK PackageFile: SCAN.UPC_2.34.0.tar.gz PackageFileSize: 580 KiB