Package: SCAN.UPC Version: 2.34.0 Command: /home/biocbuild/bbs-3.13-bioc/R/bin/R CMD INSTALL SCAN.UPC StartedAt: 2021-10-14 06:19:44 -0400 (Thu, 14 Oct 2021) EndedAt: 2021-10-14 06:20:11 -0400 (Thu, 14 Oct 2021) EllapsedTime: 27.4 seconds RetCode: 0 Status: OK