Package: SCAN.UPC Version: 2.34.0 Command: chmod a+r SCAN.UPC -R && C:\Users\biocbuild\bbs-3.13-bioc\R\bin\R.exe CMD build --keep-empty-dirs --no-resave-data SCAN.UPC StartedAt: 2021-10-14 17:54:40 -0400 (Thu, 14 Oct 2021) EndedAt: 2021-10-14 17:55:29 -0400 (Thu, 14 Oct 2021) EllapsedTime: 49.0 seconds RetCode: 0 Status: OK PackageFile: SCAN.UPC_2.34.0.tar.gz PackageFileSize: 581.4 KiB