Package: SCAN.UPC Version: 2.34.0 Command: C:\Users\biocbuild\bbs-3.13-bioc\R\bin\R.exe CMD check --force-multiarch --install=check:SCAN.UPC.install-out.txt --library=C:\Users\biocbuild\bbs-3.13-bioc\R\library --no-vignettes --timings SCAN.UPC_2.34.0.tar.gz StartedAt: 2021-10-15 05:05:56 -0400 (Fri, 15 Oct 2021) EndedAt: 2021-10-15 05:10:12 -0400 (Fri, 15 Oct 2021) EllapsedTime: 255.6 seconds RetCode: 0 Status: OK CheckDir: SCAN.UPC.Rcheck Warnings: 0