Package: SCFA Version: 1.2.0 Command: /home/biocbuild/bbs-3.13-bioc/R/bin/R CMD build --keep-empty-dirs --no-resave-data SCFA StartedAt: 2021-10-14 08:19:46 -0400 (Thu, 14 Oct 2021) EndedAt: 2021-10-14 08:22:22 -0400 (Thu, 14 Oct 2021) EllapsedTime: 156.1 seconds RetCode: 0 Status: OK PackageFile: SCFA_1.2.0.tar.gz PackageFileSize: 1.237 MiB